BEGIN:VCALENDAR
VERSION:2.0
PRODID:-//CEMU - Pédagogie, accompagnement &amp; innovation - ECPv6.15.18//NONSGML v1.0//EN
CALSCALE:GREGORIAN
METHOD:PUBLISH
X-WR-CALNAME:CEMU - Pédagogie, accompagnement &amp; innovation
X-ORIGINAL-URL:https://pedagogie.unicaen.fr
X-WR-CALDESC:Évènements pour CEMU - Pédagogie, accompagnement &amp; innovation
REFRESH-INTERVAL;VALUE=DURATION:PT1H
X-Robots-Tag:noindex
X-PUBLISHED-TTL:PT1H
BEGIN:VTIMEZONE
TZID:Europe/Paris
BEGIN:DAYLIGHT
TZOFFSETFROM:+0100
TZOFFSETTO:+0200
TZNAME:CEST
DTSTART:20220327T010000
END:DAYLIGHT
BEGIN:STANDARD
TZOFFSETFROM:+0200
TZOFFSETTO:+0100
TZNAME:CET
DTSTART:20221030T010000
END:STANDARD
BEGIN:DAYLIGHT
TZOFFSETFROM:+0100
TZOFFSETTO:+0200
TZNAME:CEST
DTSTART:20230326T010000
END:DAYLIGHT
BEGIN:STANDARD
TZOFFSETFROM:+0200
TZOFFSETTO:+0100
TZNAME:CET
DTSTART:20231029T010000
END:STANDARD
BEGIN:DAYLIGHT
TZOFFSETFROM:+0100
TZOFFSETTO:+0200
TZNAME:CEST
DTSTART:20240331T010000
END:DAYLIGHT
BEGIN:STANDARD
TZOFFSETFROM:+0200
TZOFFSETTO:+0100
TZNAME:CET
DTSTART:20241027T010000
END:STANDARD
END:VTIMEZONE
BEGIN:VEVENT
DTSTART;TZID=Europe/Paris:20231017T140000
DTEND;TZID=Europe/Paris:20231017T160000
DTSTAMP:20260425T223103
CREATED:20230911T143433Z
LAST-MODIFIED:20231214T110320Z
UID:48398-1697551200-1697558400@pedagogie.unicaen.fr
SUMMARY:Atelier | Évaluer avec des QCM sur Moodle
DESCRIPTION:Participez au premier atelier de formation « Enseigner dans le supérieur » mardi 17 octobre 2023. \n\n\n\nObjectifs \n\n\n\n\n\n\nQuelle place donner aux QCM dans vos modalités d’évaluation ?\n\n\n\nComment organiser un test hors-ligne pour de grandes cohortes d’étudiants ?\n\n\n\n\n\n\n\nComment identifier et limiter les biais de cette forme d’évaluation ?\n\n\n\nComment structurer vos banques de questions ?\n\n\n\n\n\n\nCatalogue de formation — Enseigner dans le supérieur 2023-24 (pdf · 503 Ko) (pdf · 503 Ko)\n\n\n\n\nS’inscrire à la formationcemu.enssup@unicaen.fr \n\n\n\nEn savoir plus sur le dispositifpedagogie.unicaen.fr/service/se-former-pedagogie/
URL:https://pedagogie.unicaen.fr/evenement/atelier-evaluer-avec-des-qcm-sur-moodle/
LOCATION:Caen · Campus 1 · Bâtiment B · CEMU\, CEMU\, Esplanade de la Paix\, Caen\, 14000\, France
CATEGORIES:Atelier,Formation
ATTACH;FMTTYPE=image/png:https://pedagogie.unicaen.fr/wp-content/uploads/sites/24/2023/09/qcm.png
END:VEVENT
END:VCALENDAR