BEGIN:VCALENDAR
VERSION:2.0
PRODID:-//CEMU - Pédagogie, accompagnement &amp; innovation - ECPv6.15.18//NONSGML v1.0//EN
CALSCALE:GREGORIAN
METHOD:PUBLISH
X-WR-CALNAME:CEMU - Pédagogie, accompagnement &amp; innovation
X-ORIGINAL-URL:https://pedagogie.unicaen.fr
X-WR-CALDESC:Évènements pour CEMU - Pédagogie, accompagnement &amp; innovation
REFRESH-INTERVAL;VALUE=DURATION:PT1H
X-Robots-Tag:noindex
X-PUBLISHED-TTL:PT1H
BEGIN:VTIMEZONE
TZID:Europe/Paris
BEGIN:DAYLIGHT
TZOFFSETFROM:+0100
TZOFFSETTO:+0200
TZNAME:CEST
DTSTART:20220327T010000
END:DAYLIGHT
BEGIN:STANDARD
TZOFFSETFROM:+0200
TZOFFSETTO:+0100
TZNAME:CET
DTSTART:20221030T010000
END:STANDARD
BEGIN:DAYLIGHT
TZOFFSETFROM:+0100
TZOFFSETTO:+0200
TZNAME:CEST
DTSTART:20230326T010000
END:DAYLIGHT
BEGIN:STANDARD
TZOFFSETFROM:+0200
TZOFFSETTO:+0100
TZNAME:CET
DTSTART:20231029T010000
END:STANDARD
BEGIN:DAYLIGHT
TZOFFSETFROM:+0100
TZOFFSETTO:+0200
TZNAME:CEST
DTSTART:20240331T010000
END:DAYLIGHT
BEGIN:STANDARD
TZOFFSETFROM:+0200
TZOFFSETTO:+0100
TZNAME:CET
DTSTART:20241027T010000
END:STANDARD
END:VTIMEZONE
BEGIN:VEVENT
DTSTART;TZID=Europe/Paris:20231019T180000
DTEND;TZID=Europe/Paris:20231019T200000
DTSTAMP:20260421T233053
CREATED:20230928T150953Z
LAST-MODIFIED:20260417T075335Z
UID:48608-1697738400-1697745600@pedagogie.unicaen.fr
SUMMARY:Game session ouverte · Octobre
DESCRIPTION:Ouvert à toute la communauté UNICAEN \n\n\n\n\nEnseignants\, étudiants et personnels : venez tester et analyser des jeux du commerce et leur potentiel pédagogique ! \n\n\n\nProgramme\n\n\n\n\nTuring Machine (En savoir plus) : Jeu de déduction compétitif qui propose d’interroger un proto-ordinateur fonctionnant sans électricité ni électronique.\n\n\n\nCodex Naturalis (En savoir plus) : Jeu de collecte de ressources et de course au point jonglant entre faune et flore.\n\n\n\nOrconomie (En savoir plus) : Jeu pour 2 à 5 joueurs qui s’affronteront pour établir des entreprises dans différents secteurs industriels.\n\n\n\nPessoa (En savoir plus) : Jeu de placement d’ouvriers dans lequel chaque joueur interprète un des plus célèbres hétéronymes de l’écrivain : Alberto Caeiro\, Ricardo Reis\, Álvaro de Campos ou Bernardo Soares.\n\n\n\nCartographers (En savoir plus) : Jeu de type ‘Flip and Write’. Les joueurs et joueuses sont en compétition pour gagner le plus d’étoiles de réputation avant la fin de la quatrième saison.\n\n\n\nNidavellir (En savoir plus) : Dans Nidavellir\, les joueurs et joueuses incarnent des Elvalands envoyés par le Roi des Nains sur les routes du royaume afin de former une armée capable de battre le dragon Fafnir.\n\n\n\n\n\nInscription : gaminglab@unicaen.fr
URL:https://pedagogie.unicaen.fr/evenement/game-session-ouverte-octobre/
LOCATION:Caen · Campus 1 · Bâtiment B · 3e étage · Gaming Lab\, Bâtiment B\, Esplanade de la Paix\, Caen\, 14000\, France
CATEGORIES:Ludopédagogie
ATTACH;FMTTYPE=image/png:https://pedagogie.unicaen.fr/wp-content/uploads/sites/24/2023/08/Game-session-ouverte.png
END:VEVENT
END:VCALENDAR