BEGIN:VCALENDAR
VERSION:2.0
PRODID:-//CEMU - Pédagogie, accompagnement &amp; innovation - ECPv6.15.18//NONSGML v1.0//EN
CALSCALE:GREGORIAN
METHOD:PUBLISH
X-WR-CALNAME:CEMU - Pédagogie, accompagnement &amp; innovation
X-ORIGINAL-URL:https://pedagogie.unicaen.fr
X-WR-CALDESC:Évènements pour CEMU - Pédagogie, accompagnement &amp; innovation
REFRESH-INTERVAL;VALUE=DURATION:PT1H
X-Robots-Tag:noindex
X-PUBLISHED-TTL:PT1H
BEGIN:VTIMEZONE
TZID:Europe/Paris
BEGIN:DAYLIGHT
TZOFFSETFROM:+0100
TZOFFSETTO:+0200
TZNAME:CEST
DTSTART:20230326T010000
END:DAYLIGHT
BEGIN:STANDARD
TZOFFSETFROM:+0200
TZOFFSETTO:+0100
TZNAME:CET
DTSTART:20231029T010000
END:STANDARD
BEGIN:DAYLIGHT
TZOFFSETFROM:+0100
TZOFFSETTO:+0200
TZNAME:CEST
DTSTART:20240331T010000
END:DAYLIGHT
BEGIN:STANDARD
TZOFFSETFROM:+0200
TZOFFSETTO:+0100
TZNAME:CET
DTSTART:20241027T010000
END:STANDARD
BEGIN:DAYLIGHT
TZOFFSETFROM:+0100
TZOFFSETTO:+0200
TZNAME:CEST
DTSTART:20250330T010000
END:DAYLIGHT
BEGIN:STANDARD
TZOFFSETFROM:+0200
TZOFFSETTO:+0100
TZNAME:CET
DTSTART:20251026T010000
END:STANDARD
END:VTIMEZONE
BEGIN:VEVENT
DTSTART;TZID=Europe/Paris:20240902T133000
DTEND;TZID=Europe/Paris:20240902T140000
DTSTAMP:20260421T041839
CREATED:20240910T144251Z
LAST-MODIFIED:20240910T145138Z
UID:51445-1725283800-1725285600@pedagogie.unicaen.fr
SUMMARY:UNICAEN Gaming live
DESCRIPTION:Chaque mardi\, l’UNICAEN Gaming live couvre l’actualité ludopédagogique et acculture ses auditeurs au monde du jeu : analyses de jeux\, revues bibliographiques\, interviews de spécialistes\, explorations de mécanismes\, approches thématiques\, etc. \n\n\n\nÉmissions en direct sur la chaîne Twitch du CEMU et le compte Linkedin du CEMU. \n\n\n\nRetrouvez toutes les archives et chroniques sur le site du CEMU.
URL:https://pedagogie.unicaen.fr/evenement/unicaen-gaming-live-2/
CATEGORIES:Ludopédagogie
ATTACH;FMTTYPE=image/png:https://pedagogie.unicaen.fr/wp-content/uploads/sites/24/2024/09/gaming-live-sept2024.png
END:VEVENT
END:VCALENDAR